BEGIN:VCALENDAR
VERSION:2.0
PRODID:-//jEvents 2.0 for Joomla//EN
CALSCALE:GREGORIAN
METHOD:PUBLISH
BEGIN:VEVENT
UID:30d4f51fc37db622ac205f4064244006
CATEGORIES:Veranstaltungen
CREATED:20160926T221912
SUMMARY:Pokalschießen für auswärtige Vereine
LOCATION:Schützenhalle, Ohne
DESCRIPTION;ENCODING=QUOTED-PRINTABLE:
X-EXTRAINFO:Letzte Startzeit: 12.30 Uhr\nSiegerehrung:     ab 13:00 Uhr
DTSTAMP:20260422T094048Z
DTSTART:20161016T080000Z
DTEND:20161016T103000Z
SEQUENCE:0
TRANSP:OPAQUE
END:VEVENT
END:VCALENDAR